BEGIN:VCALENDAR
VERSION:2.0
PRODID:-//EAÖ Evangelische Allianz Österreich - ECPv6.15.20//NONSGML v1.0//EN
CALSCALE:GREGORIAN
METHOD:PUBLISH
X-WR-CALNAME:EAÖ Evangelische Allianz Österreich
X-ORIGINAL-URL:https://www.evangelischeallianz.at
X-WR-CALDESC:Veranstaltungen für EAÖ Evangelische Allianz Österreich
REFRESH-INTERVAL;VALUE=DURATION:PT1H
X-Robots-Tag:noindex
X-PUBLISHED-TTL:PT1H
BEGIN:VTIMEZONE
TZID:Europe/Vienna
BEGIN:DAYLIGHT
TZOFFSETFROM:+0100
TZOFFSETTO:+0200
TZNAME:CEST
DTSTART:20250330T010000
END:DAYLIGHT
BEGIN:STANDARD
TZOFFSETFROM:+0200
TZOFFSETTO:+0100
TZNAME:CET
DTSTART:20251026T010000
END:STANDARD
BEGIN:DAYLIGHT
TZOFFSETFROM:+0100
TZOFFSETTO:+0200
TZNAME:CEST
DTSTART:20260329T010000
END:DAYLIGHT
BEGIN:STANDARD
TZOFFSETFROM:+0200
TZOFFSETTO:+0100
TZNAME:CET
DTSTART:20261025T010000
END:STANDARD
BEGIN:DAYLIGHT
TZOFFSETFROM:+0100
TZOFFSETTO:+0200
TZNAME:CEST
DTSTART:20270328T010000
END:DAYLIGHT
BEGIN:STANDARD
TZOFFSETFROM:+0200
TZOFFSETTO:+0100
TZNAME:CET
DTSTART:20271031T010000
END:STANDARD
END:VTIMEZONE
BEGIN:VEVENT
DTSTART;TZID=Europe/Vienna:20260421T200000
DTEND;TZID=Europe/Vienna:20260421T210000
DTSTAMP:20260422T135941
CREATED:20260127T133227Z
LAST-MODIFIED:20260304T090336Z
UID:10000136-1776801600-1776805200@www.evangelischeallianz.at
SUMMARY:HMK-Onlineseminar "Die Passion Jesu und die Passion seiner Nachfolger"
DESCRIPTION:Gerne können Sie an den kostenlosen Online-Seminaren der „Hilfsaktion Märtyrerkirche“ teilnehmen. Gemeindereferent Dr. Wolfgang Häde behandelt an fünf Abenden verschiedene Aspekt des Phänomens „Christenverfolgung“: \nAnmeldung bitte auf unserer Webseite unter www.verfolgte-christen.org/online-seminar   \nDort können Sie Ihre Mail-Adresse eintragen und erhalten dann jeweils einen Tag vor dem Seminarabend eine Erinnerung und den Link für den Zugang über ZOOM. \n31. März Die Passion Jesu und die Passion seiner Nachfolger\n7. April Christenverfolgung weltweit: Zahlen\, Hintergründe\, Triebkräfte\n14. April Stimmen aus der Verfolgung – Projektpartner der HMK\n21. April Durch viele Bedrängnisse – Verfolgung in der Apostelgeschichte\n28. April Seid nüchtern und wachet: Vorbereitung auf Verfolgung \n 
URL:https://www.evangelischeallianz.at/veranstaltung/hmk-onlineseminar-die-passion-jesu-und-die-passion-seiner-nachfolger/2026-04-21/
LOCATION:Online via Zoom
CATEGORIES:Seminar
ATTACH;FMTTYPE=image/jpeg:https://www.evangelischeallianz.at/wp-content/uploads/HMK_logo_quer_cmyk-1.jpg
END:VEVENT
BEGIN:VEVENT
DTSTART;TZID=Europe/Vienna:20260414T200000
DTEND;TZID=Europe/Vienna:20260414T210000
DTSTAMP:20260422T135941
CREATED:20260127T133227Z
LAST-MODIFIED:20260304T090336Z
UID:10000135-1776196800-1776200400@www.evangelischeallianz.at
SUMMARY:HMK-Onlineseminar "Die Passion Jesu und die Passion seiner Nachfolger"
DESCRIPTION:Gerne können Sie an den kostenlosen Online-Seminaren der „Hilfsaktion Märtyrerkirche“ teilnehmen. Gemeindereferent Dr. Wolfgang Häde behandelt an fünf Abenden verschiedene Aspekt des Phänomens „Christenverfolgung“: \nAnmeldung bitte auf unserer Webseite unter www.verfolgte-christen.org/online-seminar   \nDort können Sie Ihre Mail-Adresse eintragen und erhalten dann jeweils einen Tag vor dem Seminarabend eine Erinnerung und den Link für den Zugang über ZOOM. \n31. März Die Passion Jesu und die Passion seiner Nachfolger\n7. April Christenverfolgung weltweit: Zahlen\, Hintergründe\, Triebkräfte\n14. April Stimmen aus der Verfolgung – Projektpartner der HMK\n21. April Durch viele Bedrängnisse – Verfolgung in der Apostelgeschichte\n28. April Seid nüchtern und wachet: Vorbereitung auf Verfolgung \n 
URL:https://www.evangelischeallianz.at/veranstaltung/hmk-onlineseminar-die-passion-jesu-und-die-passion-seiner-nachfolger/2026-04-14/
LOCATION:Online via Zoom
CATEGORIES:Seminar
ATTACH;FMTTYPE=image/jpeg:https://www.evangelischeallianz.at/wp-content/uploads/HMK_logo_quer_cmyk-1.jpg
END:VEVENT
BEGIN:VEVENT
DTSTART;TZID=Europe/Vienna:20260407T200000
DTEND;TZID=Europe/Vienna:20260407T210000
DTSTAMP:20260422T135941
CREATED:20260127T133227Z
LAST-MODIFIED:20260304T090336Z
UID:10000134-1775592000-1775595600@www.evangelischeallianz.at
SUMMARY:HMK-Onlineseminar "Die Passion Jesu und die Passion seiner Nachfolger"
DESCRIPTION:Gerne können Sie an den kostenlosen Online-Seminaren der „Hilfsaktion Märtyrerkirche“ teilnehmen. Gemeindereferent Dr. Wolfgang Häde behandelt an fünf Abenden verschiedene Aspekt des Phänomens „Christenverfolgung“: \nAnmeldung bitte auf unserer Webseite unter www.verfolgte-christen.org/online-seminar   \nDort können Sie Ihre Mail-Adresse eintragen und erhalten dann jeweils einen Tag vor dem Seminarabend eine Erinnerung und den Link für den Zugang über ZOOM. \n31. März Die Passion Jesu und die Passion seiner Nachfolger\n7. April Christenverfolgung weltweit: Zahlen\, Hintergründe\, Triebkräfte\n14. April Stimmen aus der Verfolgung – Projektpartner der HMK\n21. April Durch viele Bedrängnisse – Verfolgung in der Apostelgeschichte\n28. April Seid nüchtern und wachet: Vorbereitung auf Verfolgung \n 
URL:https://www.evangelischeallianz.at/veranstaltung/hmk-onlineseminar-die-passion-jesu-und-die-passion-seiner-nachfolger/2026-04-07/
LOCATION:Online via Zoom
CATEGORIES:Seminar
ATTACH;FMTTYPE=image/jpeg:https://www.evangelischeallianz.at/wp-content/uploads/HMK_logo_quer_cmyk-1.jpg
END:VEVENT
BEGIN:VEVENT
DTSTART;TZID=Europe/Vienna:20260331T200000
DTEND;TZID=Europe/Vienna:20260331T210000
DTSTAMP:20260422T135941
CREATED:20260127T133227Z
LAST-MODIFIED:20260304T090336Z
UID:10000133-1774987200-1774990800@www.evangelischeallianz.at
SUMMARY:HMK-Onlineseminar "Die Passion Jesu und die Passion seiner Nachfolger"
DESCRIPTION:Gerne können Sie an den kostenlosen Online-Seminaren der „Hilfsaktion Märtyrerkirche“ teilnehmen. Gemeindereferent Dr. Wolfgang Häde behandelt an fünf Abenden verschiedene Aspekt des Phänomens „Christenverfolgung“: \nAnmeldung bitte auf unserer Webseite unter www.verfolgte-christen.org/online-seminar   \nDort können Sie Ihre Mail-Adresse eintragen und erhalten dann jeweils einen Tag vor dem Seminarabend eine Erinnerung und den Link für den Zugang über ZOOM. \n31. März Die Passion Jesu und die Passion seiner Nachfolger\n7. April Christenverfolgung weltweit: Zahlen\, Hintergründe\, Triebkräfte\n14. April Stimmen aus der Verfolgung – Projektpartner der HMK\n21. April Durch viele Bedrängnisse – Verfolgung in der Apostelgeschichte\n28. April Seid nüchtern und wachet: Vorbereitung auf Verfolgung \n 
URL:https://www.evangelischeallianz.at/veranstaltung/hmk-onlineseminar-die-passion-jesu-und-die-passion-seiner-nachfolger/2026-03-31/
LOCATION:Online via Zoom
CATEGORIES:Seminar
ATTACH;FMTTYPE=image/jpeg:https://www.evangelischeallianz.at/wp-content/uploads/HMK_logo_quer_cmyk-1.jpg
END:VEVENT
END:VCALENDAR