BEGIN:VCALENDAR
VERSION:2.0
PRODID:-//EAÖ Evangelische Allianz Österreich - ECPv6.15.20//NONSGML v1.0//EN
CALSCALE:GREGORIAN
METHOD:PUBLISH
X-ORIGINAL-URL:https://www.evangelischeallianz.at
X-WR-CALDESC:Veranstaltungen für EAÖ Evangelische Allianz Österreich
REFRESH-INTERVAL;VALUE=DURATION:PT1H
X-Robots-Tag:noindex
X-PUBLISHED-TTL:PT1H
BEGIN:VTIMEZONE
TZID:Europe/Vienna
BEGIN:DAYLIGHT
TZOFFSETFROM:+0100
TZOFFSETTO:+0200
TZNAME:CEST
DTSTART:20250330T010000
END:DAYLIGHT
BEGIN:STANDARD
TZOFFSETFROM:+0200
TZOFFSETTO:+0100
TZNAME:CET
DTSTART:20251026T010000
END:STANDARD
BEGIN:DAYLIGHT
TZOFFSETFROM:+0100
TZOFFSETTO:+0200
TZNAME:CEST
DTSTART:20260329T010000
END:DAYLIGHT
BEGIN:STANDARD
TZOFFSETFROM:+0200
TZOFFSETTO:+0100
TZNAME:CET
DTSTART:20261025T010000
END:STANDARD
BEGIN:DAYLIGHT
TZOFFSETFROM:+0100
TZOFFSETTO:+0200
TZNAME:CEST
DTSTART:20270328T010000
END:DAYLIGHT
BEGIN:STANDARD
TZOFFSETFROM:+0200
TZOFFSETTO:+0100
TZNAME:CET
DTSTART:20271031T010000
END:STANDARD
END:VTIMEZONE
BEGIN:VEVENT
DTSTART;TZID=Europe/Vienna:20260428T200000
DTEND;TZID=Europe/Vienna:20260428T210000
DTSTAMP:20260422T123411
CREATED:20260127T133227Z
LAST-MODIFIED:20260304T090336Z
UID:10000137-1777406400-1777410000@www.evangelischeallianz.at
SUMMARY:HMK-Onlineseminar "Die Passion Jesu und die Passion seiner Nachfolger"
DESCRIPTION:Gerne können Sie an den kostenlosen Online-Seminaren der „Hilfsaktion Märtyrerkirche“ teilnehmen. Gemeindereferent Dr. Wolfgang Häde behandelt an fünf Abenden verschiedene Aspekt des Phänomens „Christenverfolgung“: \nAnmeldung bitte auf unserer Webseite unter www.verfolgte-christen.org/online-seminar   \nDort können Sie Ihre Mail-Adresse eintragen und erhalten dann jeweils einen Tag vor dem Seminarabend eine Erinnerung und den Link für den Zugang über ZOOM. \n31. März Die Passion Jesu und die Passion seiner Nachfolger\n7. April Christenverfolgung weltweit: Zahlen\, Hintergründe\, Triebkräfte\n14. April Stimmen aus der Verfolgung – Projektpartner der HMK\n21. April Durch viele Bedrängnisse – Verfolgung in der Apostelgeschichte\n28. April Seid nüchtern und wachet: Vorbereitung auf Verfolgung \n 
URL:https://www.evangelischeallianz.at/veranstaltung/hmk-onlineseminar-die-passion-jesu-und-die-passion-seiner-nachfolger/2026-04-28/
LOCATION:Online via Zoom
CATEGORIES:Seminar
ATTACH;FMTTYPE=image/jpeg:https://www.evangelischeallianz.at/wp-content/uploads/HMK_logo_quer_cmyk-1.jpg
END:VEVENT
BEGIN:VEVENT
DTSTART;TZID=Europe/Vienna:20260620T100000
DTEND;TZID=Europe/Vienna:20260620T163000
DTSTAMP:20260422T123411
CREATED:20260127T132414Z
LAST-MODIFIED:20260128T085939Z
UID:10000132-1781949600-1781973000@www.evangelischeallianz.at
SUMMARY:HMK-Missionstag "Umkämpfte Weltmission"
DESCRIPTION:„Segnet\, die euch verfolgen; segnet und verflucht sie nicht. Freut euch mit den Fröhlichen\, weint mit den Weinenden.“ \nRömer 12\,14-15 \nVerfolgung von Christen nimmt weltweit zu. Wir sind jedoch berufen\, auch bei Angriffen auf unseren Glauben zu segnen statt zu fluchen. Zum Mitfreuen und Mitweinen werden Vorträge und Lebensbericht auf dem Missionstag Gelegenheit geben. \nTeilnahme ist auch über einen Livestream möglich.
URL:https://www.evangelischeallianz.at/veranstaltung/hmk-missionstag-umkaempfte-weltmission/
LOCATION:St. Martini-Kirche Bremen\, Martinikirchhof 3\, Bremen\, Bremen\, 28195\, Germany
ATTACH;FMTTYPE=image/jpeg:https://www.evangelischeallianz.at/wp-content/uploads/HMK_logo_quer_cmyk-1.jpg
END:VEVENT
END:VCALENDAR