BEGIN:VCALENDAR
VERSION:2.0
PRODID:-//EAÖ Evangelische Allianz Österreich - ECPv6.15.20//NONSGML v1.0//EN
CALSCALE:GREGORIAN
METHOD:PUBLISH
X-WR-CALNAME:EAÖ Evangelische Allianz Österreich
X-ORIGINAL-URL:https://www.evangelischeallianz.at
X-WR-CALDESC:Veranstaltungen für EAÖ Evangelische Allianz Österreich
REFRESH-INTERVAL;VALUE=DURATION:PT1H
X-Robots-Tag:noindex
X-PUBLISHED-TTL:PT1H
BEGIN:VTIMEZONE
TZID:Europe/Vienna
BEGIN:DAYLIGHT
TZOFFSETFROM:+0100
TZOFFSETTO:+0200
TZNAME:CEST
DTSTART:20250330T010000
END:DAYLIGHT
BEGIN:STANDARD
TZOFFSETFROM:+0200
TZOFFSETTO:+0100
TZNAME:CET
DTSTART:20251026T010000
END:STANDARD
BEGIN:DAYLIGHT
TZOFFSETFROM:+0100
TZOFFSETTO:+0200
TZNAME:CEST
DTSTART:20260329T010000
END:DAYLIGHT
BEGIN:STANDARD
TZOFFSETFROM:+0200
TZOFFSETTO:+0100
TZNAME:CET
DTSTART:20261025T010000
END:STANDARD
BEGIN:DAYLIGHT
TZOFFSETFROM:+0100
TZOFFSETTO:+0200
TZNAME:CEST
DTSTART:20270328T010000
END:DAYLIGHT
BEGIN:STANDARD
TZOFFSETFROM:+0200
TZOFFSETTO:+0100
TZNAME:CET
DTSTART:20271031T010000
END:STANDARD
END:VTIMEZONE
BEGIN:VEVENT
DTSTART;VALUE=DATE:20260301
DTEND;VALUE=DATE:20260428
DTSTAMP:20260421T122658
CREATED:20251212T083129Z
LAST-MODIFIED:20260202T130630Z
UID:10000078-1772323200-1777334399@www.evangelischeallianz.at
SUMMARY:REACH Jüngerschaftsschule
DESCRIPTION:REACH\, das Missions- und Jüngerschaftstraining von OM\, ist auf biblischen Grundwerten aufgebaut\, unterscheidet sich aber je nach Einsatzland auf Stil und Schwerpunkt. Doch egal wo\, die Teilnehmer werden durch die Schulungen\, Einsätze und das Leben in einer multikulturellen Gemeinschaft auch auf Mission vorbereitet. „Ich kam zu REACH\, weil ich mehr über Gott\, Mission und andere Kulturen erfahren wollte“\, berichtet Kevin vom REACH in Moldau. „Ich habe Gott während dieser Zeit in seiner Treue und Liebe zu allen Menschengruppen erlebt.“ Ein REACH-Programm dauert fünf Monate und findet unter anderem in Chile\, Großbritannien\, Moldau und Südafrika statt. \nInteresse? Melde dich bei personnel.at@om.org
URL:https://www.evangelischeallianz.at/veranstaltung/reach-juengerschaftsschule/
CATEGORIES:Missionseinsatz,Schulung
ATTACH;FMTTYPE=image/jpeg:https://www.evangelischeallianz.at/wp-content/uploads/R72199_N_No_restrictions_REACH_in_Moldova_and_Romania_staff.jpg
END:VEVENT
BEGIN:VEVENT
DTSTART;VALUE=DATE:20260801
DTEND;VALUE=DATE:20260809
DTSTAMP:20260421T122658
CREATED:20251211T140601Z
LAST-MODIFIED:20251211T140601Z
UID:10000077-1785542400-1786233599@www.evangelischeallianz.at
SUMMARY:TeenStreet 2026
DESCRIPTION:Eine Woche voller Input und Tiefgang für Teenager\, die mehr von Jesus und der Bibel erleben wollen – das verspricht TeenStreet. Das OM-Teenagerevent findet vom 1. nis 8. August 2026 auf dem Messegelände in Offenburg statt und es werden insgesamt bis zu 3500 Teilnehmer aus ganz Europa erwartet. Die Anmeldung für Teenager\, Kleingruppenleiter und -leiterinnen sowie Service-Team-Mitarbeiter und -Mitarbeiterinnen ist noch bis 6. Juli 2026 möglich. \nPreise Early Bird (bis 31.MÄrz 2026): Teens € 325 / Mitarbeiter € 210\nPreise regulär (ab 1. April 2026: Teens € 355 / Mitarbeiter € 240 \nAnmeldeschluss: 6. Juli 2026
URL:https://www.evangelischeallianz.at/veranstaltung/teenstreet-2026/
LOCATION:Offenburg (D)\, Messe Offenburg-Ortenau\, Offenburg\, Germany
CATEGORIES:Freizeit,Konferenz,Lobpreis,Seminar,Workshop
ATTACH;FMTTYPE=image/png:https://www.evangelischeallianz.at/wp-content/uploads/TeenStreet-2026.png
END:VEVENT
END:VCALENDAR